BEGIN:VCALENDAR
VERSION:2.0
PRODID:-//horsealert.local//NONSGML kigkonsult.se iCalcreator 2.10.5//
CALSCALE:GREGORIAN
X-WR-TIMEZONE:Europe/Dublin
BEGIN:VTIMEZONE
TZID:Etc/GMT-1
BEGIN:STANDARD
DTSTART:20010101T000000
TZOFFSETFROM:+0100
TZOFFSETTO:+0100
TZNAME:GMT +01:00
END:STANDARD
END:VTIMEZONE
BEGIN:VEVENT
UID:20260420T213226CEST-381481kOAm@horsealert.local
DTSTAMP:20260420T190426Z
CATEGORIES:Horse Alerts
DESCRIPTION:Prix De La Microcreche Les Lucioles - Attele
DTSTART:20220710T103500
LOCATION:France
SUMMARY:Horse Racing:Prix De La Microcreche Les Lucioles - Attele
END:VEVENT
END:VCALENDAR
