BEGIN:VCALENDAR
VERSION:2.0
PRODID:-//horsealert.local//NONSGML kigkonsult.se iCalcreator 2.10.5//
CALSCALE:GREGORIAN
X-WR-TIMEZONE:Europe/Dublin
BEGIN:VTIMEZONE
TZID:Etc/GMT-1
BEGIN:STANDARD
DTSTART:20010101T000000
TZOFFSETFROM:+0100
TZOFFSETTO:+0100
TZNAME:GMT +01:00
END:STANDARD
END:VTIMEZONE
BEGIN:VEVENT
UID:20260420T200233CEST-8199JiOf8V@horsealert.local
DTSTAMP:20260420T180433Z
CATEGORIES:Horse Alerts
DESCRIPTION:Ressons-s/-matz Claiming Stakes
DTSTART:20220711T123000
LOCATION:France
SUMMARY:Horse Racing:Ressons-s/-matz Claiming Stakes
END:VEVENT
END:VCALENDAR
