BEGIN:VCALENDAR
VERSION:2.0
PRODID:-//horsealert.local//NONSGML kigkonsult.se iCalcreator 2.10.5//
CALSCALE:GREGORIAN
X-WR-TIMEZONE:Europe/Dublin
BEGIN:VTIMEZONE
TZID:Etc/GMT-1
BEGIN:STANDARD
DTSTART:20010101T000000
TZOFFSETFROM:+0100
TZOFFSETTO:+0100
TZNAME:GMT +01:00
END:STANDARD
END:VTIMEZONE
BEGIN:VEVENT
UID:20260420T184625CEST-69526a2rHI@horsealert.local
DTSTAMP:20260420T160425Z
CATEGORIES:Horse Alerts
DESCRIPTION:PAQ IT Handicap Hurdle (80-95)
DTSTART:20220721T191500
LOCATION:Eire
SUMMARY:Horse Racing:PAQ IT Handicap Hurdle (80-95)
END:VEVENT
END:VCALENDAR
