BEGIN:VCALENDAR
VERSION:2.0
PRODID:-//horsealert.local//NONSGML kigkonsult.se iCalcreator 2.10.5//
CALSCALE:GREGORIAN
X-WR-TIMEZONE:Europe/Dublin
BEGIN:VTIMEZONE
TZID:Etc/GMT-1
BEGIN:STANDARD
DTSTART:20010101T000000
TZOFFSETFROM:+0100
TZOFFSETTO:+0100
TZNAME:GMT +01:00
END:STANDARD
END:VTIMEZONE
BEGIN:VEVENT
UID:20260420T184426CEST-6629wpePOW@horsealert.local
DTSTAMP:20260420T160426Z
CATEGORIES:Horse Alerts
DESCRIPTION:Free Jackpot All Customers At tote.ie Irish EBF Mares Handicap 
 Hurdle
DTSTART:20220727T181000
LOCATION:Eire
SUMMARY:Horse Racing:Free Jackpot All Customers At tote.ie Irish EBF Mares 
 Handicap Hurdle
END:VEVENT
END:VCALENDAR
