BEGIN:VCALENDAR
VERSION:2.0
PRODID:-//horsealert.local//NONSGML kigkonsult.se iCalcreator 2.10.5//
CALSCALE:GREGORIAN
X-WR-TIMEZONE:Europe/Dublin
BEGIN:VTIMEZONE
TZID:Etc/GMT-1
BEGIN:STANDARD
DTSTART:20010101T000000
TZOFFSETFROM:+0100
TZOFFSETTO:+0100
TZNAME:GMT +01:00
END:STANDARD
END:VTIMEZONE
BEGIN:VEVENT
UID:20260420T200127CEST-9030BX6P4V@horsealert.local
DTSTAMP:20260420T180427Z
CATEGORIES:Horse Alerts
DESCRIPTION:Prix Equin Normand (prix Des Listeres) - Monte
DTSTART:20220729T195000
LOCATION:France
SUMMARY:Horse Racing:Prix Equin Normand (prix Des Listeres) - Monte
END:VEVENT
END:VCALENDAR
