BEGIN:VCALENDAR
VERSION:2.0
PRODID:-//horsealert.local//NONSGML kigkonsult.se iCalcreator 2.10.5//
CALSCALE:GREGORIAN
X-WR-TIMEZONE:Europe/Dublin
BEGIN:VTIMEZONE
TZID:Etc/GMT-1
BEGIN:STANDARD
DTSTART:20010101T000000
TZOFFSETFROM:+0100
TZOFFSETTO:+0100
TZNAME:GMT +01:00
END:STANDARD
END:VTIMEZONE
BEGIN:VEVENT
UID:20260420T172122CEST-8530CkDbhu@horsealert.local
DTSTAMP:20260420T150422Z
CATEGORIES:Horse Alerts
DESCRIPTION:Awards & Gifts Handicap
DTSTART:20220804T202500
LOCATION:Eire
SUMMARY:Horse Racing:Awards & Gifts Handicap
END:VEVENT
END:VCALENDAR
