BEGIN:VCALENDAR
VERSION:2.0
PRODID:-//horsealert.local//NONSGML kigkonsult.se iCalcreator 2.10.5//
CALSCALE:GREGORIAN
X-WR-TIMEZONE:Europe/Dublin
BEGIN:VTIMEZONE
TZID:Etc/GMT-1
BEGIN:STANDARD
DTSTART:20010101T000000
TZOFFSETFROM:+0100
TZOFFSETTO:+0100
TZNAME:GMT +01:00
END:STANDARD
END:VTIMEZONE
BEGIN:VEVENT
UID:20260420T172130CEST-8801moHjL9@horsealert.local
DTSTAMP:20260420T150430Z
CATEGORIES:Horse Alerts
DESCRIPTION:Mongey Communications Kingdom Gold Cup Handicap (Premier Handic
 ap)
DTSTART:20220818T190500
LOCATION:Eire
SUMMARY:Horse Racing:Mongey Communications Kingdom Gold Cup Handicap (Premi
 er Handicap)
END:VEVENT
END:VCALENDAR
