BEGIN:VCALENDAR
VERSION:2.0
PRODID:-//horsealert.local//NONSGML kigkonsult.se iCalcreator 2.10.5//
CALSCALE:GREGORIAN
X-WR-TIMEZONE:Europe/Dublin
BEGIN:VTIMEZONE
TZID:Etc/GMT-1
BEGIN:STANDARD
DTSTART:20010101T000000
TZOFFSETFROM:+0100
TZOFFSETTO:+0100
TZNAME:GMT +01:00
END:STANDARD
END:VTIMEZONE
BEGIN:VEVENT
UID:20260420T184556CEST-1290Ag8VVa@horsealert.local
DTSTAMP:20260420T160456Z
CATEGORIES:Horse Alerts
DESCRIPTION:Lingfield - Arab Race - Rossdales Veterinary Surgeons Handicap
DTSTART:20220824T161500
LOCATION:England
SUMMARY:Horse Racing:Lingfield - Arab Race - Rossdales Veterinary Surgeons 
 Handicap
END:VEVENT
END:VCALENDAR
