BEGIN:VCALENDAR
VERSION:2.0
PRODID:-//horsealert.local//NONSGML kigkonsult.se iCalcreator 2.10.5//
CALSCALE:GREGORIAN
X-WR-TIMEZONE:Europe/Dublin
BEGIN:VTIMEZONE
TZID:Etc/GMT-1
BEGIN:STANDARD
DTSTART:20010101T000000
TZOFFSETFROM:+0100
TZOFFSETTO:+0100
TZNAME:GMT +01:00
END:STANDARD
END:VTIMEZONE
BEGIN:VEVENT
UID:20260420T154820CEST-0798MLCDK8@horsealert.local
DTSTAMP:20260420T130420Z
CATEGORIES:Horse Alerts
DESCRIPTION:William Hill Bet Boost Racing League Race 23 (Nursery)
DTSTART:20220901T170000
LOCATION:England
SUMMARY:Horse Racing:William Hill Bet Boost Racing League Race 23 (Nursery)
END:VEVENT
END:VCALENDAR
