BEGIN:VCALENDAR
VERSION:2.0
PRODID:-//horsealert.local//NONSGML kigkonsult.se iCalcreator 2.10.5//
CALSCALE:GREGORIAN
X-WR-TIMEZONE:Europe/Dublin
BEGIN:VTIMEZONE
TZID:Etc/GMT-1
BEGIN:STANDARD
DTSTART:20010101T000000
TZOFFSETFROM:+0100
TZOFFSETTO:+0100
TZNAME:GMT +01:00
END:STANDARD
END:VTIMEZONE
BEGIN:VEVENT
UID:20260420T154951CEST-47062c50Jz@horsealert.local
DTSTAMP:20260420T130451Z
CATEGORIES:Horse Alerts
DESCRIPTION:Qatar Cup - Prix Dragon Stakes (Arab Group 1)
DTSTART:20220911T125800
LOCATION:France
SUMMARY:Horse Racing:Qatar Cup - Prix Dragon Stakes (Arab Group 1)
END:VEVENT
END:VCALENDAR
