BEGIN:VCALENDAR
VERSION:2.0
PRODID:-//horsealert.local//NONSGML kigkonsult.se iCalcreator 2.10.5//
CALSCALE:GREGORIAN
X-WR-TIMEZONE:Europe/Dublin
BEGIN:VTIMEZONE
TZID:Etc/GMT-1
BEGIN:STANDARD
DTSTART:20010101T000000
TZOFFSETFROM:+0100
TZOFFSETTO:+0100
TZNAME:GMT +01:00
END:STANDARD
END:VTIMEZONE
BEGIN:VEVENT
UID:20260420T172130CEST-7914ioPMC2@horsealert.local
DTSTAMP:20260420T150430Z
CATEGORIES:Horse Alerts
DESCRIPTION:L'Etang De St-Cucufa Stakes
DTSTART:20220923T164500
LOCATION:France
SUMMARY:Horse Racing:L'Etang De St-Cucufa Stakes
END:VEVENT
END:VCALENDAR
