BEGIN:VCALENDAR
VERSION:2.0
PRODID:-//horsealert.local//NONSGML kigkonsult.se iCalcreator 2.10.5//
CALSCALE:GREGORIAN
X-WR-TIMEZONE:Europe/Dublin
BEGIN:VTIMEZONE
TZID:Etc/GMT-1
BEGIN:STANDARD
DTSTART:20010101T000000
TZOFFSETFROM:+0100
TZOFFSETTO:+0100
TZNAME:GMT +01:00
END:STANDARD
END:VTIMEZONE
BEGIN:VEVENT
UID:20260420T143042CEST-4660x6HdjZ@horsealert.local
DTSTAMP:20260420T120442Z
CATEGORIES:Horse Alerts
DESCRIPTION:Jordan Garrett Very Late 21st Female Jockeys' Handicap Hurdle (
 Professionals & Amateurs)
DTSTART:20221015T134000
LOCATION:England
SUMMARY:Horse Racing:Jordan Garrett Very Late 21st Female Jockeys' Handicap
  Hurdle (Professionals & Amateurs)
END:VEVENT
END:VCALENDAR
