BEGIN:VCALENDAR
VERSION:2.0
PRODID:-//horsealert.local//NONSGML kigkonsult.se iCalcreator 2.10.5//
CALSCALE:GREGORIAN
X-WR-TIMEZONE:Europe/Dublin
BEGIN:VTIMEZONE
TZID:Etc/GMT-1
BEGIN:STANDARD
DTSTART:20010101T000000
TZOFFSETFROM:+0100
TZOFFSETTO:+0100
TZNAME:GMT +01:00
END:STANDARD
END:VTIMEZONE
BEGIN:VEVENT
UID:20260420T142853CEST-77865BGO9U@horsealert.local
DTSTAMP:20260420T120453Z
CATEGORIES:Horse Alerts
DESCRIPTION:Chambre De Commerce Et D'Industrie De Seine Et Marne Claiming H
 urdle
DTSTART:20221031T115000
LOCATION:France
SUMMARY:Horse Racing:Chambre De Commerce Et D'Industrie De Seine Et Marne C
 laiming Hurdle
END:VEVENT
END:VCALENDAR
