BEGIN:VCALENDAR
VERSION:2.0
PRODID:-//horsealert.local//NONSGML kigkonsult.se iCalcreator 2.10.5//
CALSCALE:GREGORIAN
X-WR-TIMEZONE:Europe/Dublin
BEGIN:VTIMEZONE
TZID:Etc/GMT-1
BEGIN:STANDARD
DTSTART:20010101T000000
TZOFFSETFROM:+0100
TZOFFSETTO:+0100
TZNAME:GMT +01:00
END:STANDARD
END:VTIMEZONE
BEGIN:VEVENT
UID:20260420T125613CEST-25728dnv7L@horsealert.local
DTSTAMP:20260420T100413Z
CATEGORIES:Horse Alerts
DESCRIPTION:Prix President Michel Bodiguel Grand Steeple-Chase De Loire-At 
 Listed Chase
DTSTART:20221101T123500
LOCATION:France
SUMMARY:Horse Racing:Prix President Michel Bodiguel Grand Steeple-Chase De 
 Loire-At Listed Chase
END:VEVENT
END:VCALENDAR
