BEGIN:VCALENDAR
VERSION:2.0
PRODID:-//horsealert.local//NONSGML kigkonsult.se iCalcreator 2.10.5//
CALSCALE:GREGORIAN
X-WR-TIMEZONE:Europe/Dublin
BEGIN:VTIMEZONE
TZID:Etc/GMT-1
BEGIN:STANDARD
DTSTART:20010101T000000
TZOFFSETFROM:+0100
TZOFFSETTO:+0100
TZNAME:GMT +01:00
END:STANDARD
END:VTIMEZONE
BEGIN:VEVENT
UID:20260420T125710CEST-3395T6RFtX@horsealert.local
DTSTAMP:20260420T100410Z
CATEGORIES:Horse Alerts
DESCRIPTION:Racecape Powered By Hollywoodbets Maiden Special Weights
DTSTART:20221119T122500
LOCATION:South Africa
SUMMARY:Horse Racing:Racecape Powered By Hollywoodbets Maiden Special Weigh
 ts
END:VEVENT
END:VCALENDAR
