BEGIN:VCALENDAR
VERSION:2.0
PRODID:-//horsealert.local//NONSGML kigkonsult.se iCalcreator 2.10.5//
CALSCALE:GREGORIAN
X-WR-TIMEZONE:Europe/Dublin
BEGIN:VTIMEZONE
TZID:Etc/GMT-1
BEGIN:STANDARD
DTSTART:20010101T000000
TZOFFSETFROM:+0100
TZOFFSETTO:+0100
TZNAME:GMT +01:00
END:STANDARD
END:VTIMEZONE
BEGIN:VEVENT
UID:20260420T125553CEST-3052XdKgA1@horsealert.local
DTSTAMP:20260420T100453Z
CATEGORIES:Horse Alerts
DESCRIPTION:Noreside Catering Irish EBF Beginners Chase
DTSTART:20221126T120000
LOCATION:Eire
SUMMARY:Horse Racing:Noreside Catering Irish EBF Beginners Chase
END:VEVENT
END:VCALENDAR
