BEGIN:VCALENDAR
VERSION:2.0
PRODID:-//horsealert.local//NONSGML kigkonsult.se iCalcreator 2.10.5//
CALSCALE:GREGORIAN
X-WR-TIMEZONE:Europe/Dublin
BEGIN:VTIMEZONE
TZID:Etc/GMT-1
BEGIN:STANDARD
DTSTART:20010101T000000
TZOFFSETFROM:+0100
TZOFFSETTO:+0100
TZNAME:GMT +01:00
END:STANDARD
END:VTIMEZONE
BEGIN:VEVENT
UID:20260420T100120CEST-7325rEev7h@horsealert.local
DTSTAMP:20260420T080420Z
CATEGORIES:Horse Alerts
DESCRIPTION:aceodds.com Bonus Codes Amateur Jockeys' Handicap (Div 2)
DTSTART:20221208T170000
LOCATION:England
SUMMARY:Horse Racing:aceodds.com Bonus Codes Amateur Jockeys' Handicap (Div
  2)
END:VEVENT
END:VCALENDAR
