BEGIN:VCALENDAR
VERSION:2.0
PRODID:-//horsealert.local//NONSGML kigkonsult.se iCalcreator 2.10.5//
CALSCALE:GREGORIAN
X-WR-TIMEZONE:Europe/Dublin
BEGIN:VTIMEZONE
TZID:Etc/GMT-1
BEGIN:STANDARD
DTSTART:20010101T000000
TZOFFSETFROM:+0100
TZOFFSETTO:+0100
TZNAME:GMT +01:00
END:STANDARD
END:VTIMEZONE
BEGIN:VEVENT
UID:20260420T095507CEST-5245tV9AFc@horsealert.local
DTSTAMP:20260420T070407Z
CATEGORIES:Horse Alerts
DESCRIPTION:Pau Bearn Handicap AWT
DTSTART:20221227T144200
LOCATION:France
SUMMARY:Horse Racing:Pau Bearn Handicap AWT
END:VEVENT
END:VCALENDAR
