BEGIN:VCALENDAR
VERSION:2.0
PRODID:-//horsealert.local//NONSGML kigkonsult.se iCalcreator 2.10.5//
CALSCALE:GREGORIAN
X-WR-TIMEZONE:Europe/Dublin
BEGIN:VTIMEZONE
TZID:Etc/GMT-1
BEGIN:STANDARD
DTSTART:20010101T000000
TZOFFSETFROM:+0100
TZOFFSETTO:+0100
TZNAME:GMT +01:00
END:STANDARD
END:VTIMEZONE
BEGIN:VEVENT
UID:20260420T083008CEST-8754Vk5V4m@horsealert.local
DTSTAMP:20260420T060408Z
CATEGORIES:Horse Alerts
DESCRIPTION:Winter Million Concetta Harkin Memorial Novices' Hurdle (GBB Ra
 ce)
DTSTART:20230122T133000
LOCATION:England
SUMMARY:Horse Racing:Winter Million Concetta Harkin Memorial Novices' Hurdl
 e (GBB Race)
END:VEVENT
END:VCALENDAR
