BEGIN:VCALENDAR
VERSION:2.0
PRODID:-//horsealert.local//NONSGML kigkonsult.se iCalcreator 2.10.5//
CALSCALE:GREGORIAN
X-WR-TIMEZONE:Europe/Dublin
BEGIN:VTIMEZONE
TZID:Etc/GMT-1
BEGIN:STANDARD
DTSTART:20010101T000000
TZOFFSETFROM:+0100
TZOFFSETTO:+0100
TZNAME:GMT +01:00
END:STANDARD
END:VTIMEZONE
BEGIN:VEVENT
UID:20260420T095408CEST-3898Lp3129@horsealert.local
DTSTAMP:20260420T070408Z
CATEGORIES:Horse Alerts
DESCRIPTION:Huge Daily Boosts Only At BetUK Apprentice Handicap
DTSTART:20230123T162000
LOCATION:England
SUMMARY:Horse Racing:Huge Daily Boosts Only At BetUK Apprentice Handicap
END:VEVENT
END:VCALENDAR
