BEGIN:VCALENDAR
VERSION:2.0
PRODID:-//horsealert.local//NONSGML kigkonsult.se iCalcreator 2.10.5//
CALSCALE:GREGORIAN
X-WR-TIMEZONE:Europe/Dublin
BEGIN:VTIMEZONE
TZID:Etc/GMT-1
BEGIN:STANDARD
DTSTART:20010101T000000
TZOFFSETFROM:+0100
TZOFFSETTO:+0100
TZNAME:GMT +01:00
END:STANDARD
END:VTIMEZONE
BEGIN:VEVENT
UID:20260420T082920CEST-5582eeobPp@horsealert.local
DTSTAMP:20260420T060420Z
CATEGORIES:Horse Alerts
DESCRIPTION:Des Iles De Chaussey Handicap - Awt
DTSTART:20230128T182700
LOCATION:France
SUMMARY:Horse Racing:Des Iles De Chaussey Handicap - Awt
END:VEVENT
END:VCALENDAR
