BEGIN:VCALENDAR
VERSION:2.0
PRODID:-//horsealert.local//NONSGML kigkonsult.se iCalcreator 2.10.5//
CALSCALE:GREGORIAN
X-WR-TIMEZONE:Europe/Dublin
BEGIN:VTIMEZONE
TZID:Etc/GMT-1
BEGIN:STANDARD
DTSTART:20010101T000000
TZOFFSETFROM:+0100
TZOFFSETTO:+0100
TZNAME:GMT +01:00
END:STANDARD
END:VTIMEZONE
BEGIN:VEVENT
UID:20260420T065802CEST-8302prJtm3@horsealert.local
DTSTAMP:20260420T040402Z
CATEGORIES:Horse Alerts
DESCRIPTION:tabGOLD - The Intelligent Bet! Maiden Plate
DTSTART:20230208T114000
LOCATION:South Africa
SUMMARY:Horse Racing:tabGOLD - The Intelligent Bet! Maiden Plate
END:VEVENT
END:VCALENDAR
