BEGIN:VCALENDAR
VERSION:2.0
PRODID:-//horsealert.local//NONSGML kigkonsult.se iCalcreator 2.10.5//
CALSCALE:GREGORIAN
X-WR-TIMEZONE:Europe/Dublin
BEGIN:VTIMEZONE
TZID:Etc/GMT-1
BEGIN:STANDARD
DTSTART:20010101T000000
TZOFFSETFROM:+0100
TZOFFSETTO:+0100
TZNAME:GMT +01:00
END:STANDARD
END:VTIMEZONE
BEGIN:VEVENT
UID:20260420T070359CEST-6761mRHg2a@horsealert.local
DTSTAMP:20260420T050459Z
CATEGORIES:Horse Alerts
DESCRIPTION:Virgin Bet Best Odds Daily Juvenile Maiden Hurdle (GBB Race)
DTSTART:20230209T134000
LOCATION:England
SUMMARY:Horse Racing:Virgin Bet Best Odds Daily Juvenile Maiden Hurdle (GBB
  Race)
END:VEVENT
END:VCALENDAR
