BEGIN:VCALENDAR
VERSION:2.0
PRODID:-//horsealert.local//NONSGML kigkonsult.se iCalcreator 2.10.5//
CALSCALE:GREGORIAN
X-WR-TIMEZONE:Europe/Dublin
BEGIN:VTIMEZONE
TZID:Etc/GMT-1
BEGIN:STANDARD
DTSTART:20010101T000000
TZOFFSETFROM:+0100
TZOFFSETTO:+0100
TZNAME:GMT +01:00
END:STANDARD
END:VTIMEZONE
BEGIN:VEVENT
UID:20260420T070246CEST-0706gVDCvF@horsealert.local
DTSTAMP:20260420T050446Z
CATEGORIES:Horse Alerts
DESCRIPTION:Virgin Bet Best Odds Daily Warwick Mares' Hurdle (Listed) (GBB 
 Race)
DTSTART:20230211T140500
LOCATION:England
SUMMARY:Horse Racing:Virgin Bet Best Odds Daily Warwick Mares' Hurdle (List
 ed) (GBB Race)
END:VEVENT
END:VCALENDAR
