BEGIN:VCALENDAR
VERSION:2.0
PRODID:-//horsealert.local//NONSGML kigkonsult.se iCalcreator 2.10.5//
CALSCALE:GREGORIAN
X-WR-TIMEZONE:Europe/Dublin
BEGIN:VTIMEZONE
TZID:Etc/GMT-1
BEGIN:STANDARD
DTSTART:20010101T000000
TZOFFSETFROM:+0100
TZOFFSETTO:+0100
TZNAME:GMT +01:00
END:STANDARD
END:VTIMEZONE
BEGIN:VEVENT
UID:20260420T070301CEST-1559cFzoC5@horsealert.local
DTSTAMP:20260420T050401Z
CATEGORIES:Horse Alerts
DESCRIPTION:Next Turffontein Racemeeting Thursday 16 February Fm 72 Divided
  Handicap (F & M)
DTSTART:20230212T144000
LOCATION:South Africa
SUMMARY:Horse Racing:Next Turffontein Racemeeting Thursday 16 February Fm 7
 2 Divided Handicap (F & M)
END:VEVENT
END:VCALENDAR
