BEGIN:VCALENDAR
VERSION:2.0
PRODID:-//horsealert.local//NONSGML kigkonsult.se iCalcreator 2.10.5//
CALSCALE:GREGORIAN
X-WR-TIMEZONE:Europe/Dublin
BEGIN:VTIMEZONE
TZID:Etc/GMT-1
BEGIN:STANDARD
DTSTART:20010101T000000
TZOFFSETFROM:+0100
TZOFFSETTO:+0100
TZNAME:GMT +01:00
END:STANDARD
END:VTIMEZONE
BEGIN:VEVENT
UID:20260420T070245CEST-5263tPjCcS@horsealert.local
DTSTAMP:20260420T050445Z
CATEGORIES:Horse Alerts
DESCRIPTION:Next Turffontein Racemeeting Saturday 18 February Fm 76 Handica
 p (F & M)
DTSTART:20230216T142000
LOCATION:South Africa
SUMMARY:Horse Racing:Next Turffontein Racemeeting Saturday 18 February Fm 7
 6 Handicap (F & M)
END:VEVENT
END:VCALENDAR
