BEGIN:VCALENDAR
VERSION:2.0
PRODID:-//horsealert.local//NONSGML kigkonsult.se iCalcreator 2.10.5//
CALSCALE:GREGORIAN
X-WR-TIMEZONE:Europe/Dublin
BEGIN:VTIMEZONE
TZID:Etc/GMT-1
BEGIN:STANDARD
DTSTART:20010101T000000
TZOFFSETFROM:+0100
TZOFFSETTO:+0100
TZNAME:GMT +01:00
END:STANDARD
END:VTIMEZONE
BEGIN:VEVENT
UID:20260420T070202CEST-9822u4KbJr@horsealert.local
DTSTAMP:20260420T050402Z
CATEGORIES:Horse Alerts
DESCRIPTION:Huge Daily Boosts Only At BetUK Handicap
DTSTART:20230221T203000
LOCATION:England
SUMMARY:Horse Racing:Huge Daily Boosts Only At BetUK Handicap
END:VEVENT
END:VCALENDAR
