BEGIN:VCALENDAR
VERSION:2.0
PRODID:-//horsealert.local//NONSGML kigkonsult.se iCalcreator 2.10.5//
CALSCALE:GREGORIAN
X-WR-TIMEZONE:Europe/Dublin
BEGIN:VTIMEZONE
TZID:Etc/GMT-1
BEGIN:STANDARD
DTSTART:20010101T000000
TZOFFSETFROM:+0100
TZOFFSETTO:+0100
TZNAME:GMT +01:00
END:STANDARD
END:VTIMEZONE
BEGIN:VEVENT
UID:20260420T070232CEST-2023B6sUU2@horsealert.local
DTSTAMP:20260420T050432Z
CATEGORIES:Horse Alerts
DESCRIPTION:Stonegate Homes Supporting Jamie's Farm Handicap Hurdle
DTSTART:20230227T161000
LOCATION:England
SUMMARY:Horse Racing:Stonegate Homes Supporting Jamie's Farm Handicap Hurdl
 e
END:VEVENT
END:VCALENDAR
