BEGIN:VCALENDAR
VERSION:2.0
PRODID:-//horsealert.local//NONSGML kigkonsult.se iCalcreator 2.10.5//
CALSCALE:GREGORIAN
X-WR-TIMEZONE:Europe/Dublin
BEGIN:VTIMEZONE
TZID:Etc/GMT-1
BEGIN:STANDARD
DTSTART:20010101T000000
TZOFFSETFROM:+0100
TZOFFSETTO:+0100
TZNAME:GMT +01:00
END:STANDARD
END:VTIMEZONE
BEGIN:VEVENT
UID:20260420T033910CEST-0177GEf6dn@horsealert.local
DTSTAMP:20260420T010410Z
CATEGORIES:Horse Alerts
DESCRIPTION:Good Luck Killie In Scottish Cup Maiden Hurdle (GBB Race)
DTSTART:20230310T154500
LOCATION:Scotland
SUMMARY:Horse Racing:Good Luck Killie In Scottish Cup Maiden Hurdle (GBB Ra
 ce)
END:VEVENT
END:VCALENDAR
