BEGIN:VCALENDAR
VERSION:2.0
PRODID:-//horsealert.local//NONSGML kigkonsult.se iCalcreator 2.10.5//
CALSCALE:GREGORIAN
X-WR-TIMEZONE:Europe/Dublin
BEGIN:VTIMEZONE
TZID:Etc/GMT-1
BEGIN:STANDARD
DTSTART:20010101T000000
TZOFFSETFROM:+0100
TZOFFSETTO:+0100
TZNAME:GMT +01:00
END:STANDARD
END:VTIMEZONE
BEGIN:VEVENT
UID:20260420T052524CEST-81810JNF7E@horsealert.local
DTSTAMP:20260420T030424Z
CATEGORIES:Horse Alerts
DESCRIPTION:Irish Wire Products Irish EBF Shannon Spray Mares Novice Hurdle
  (Grade 3)
DTSTART:20230312T141500
LOCATION:Eire
SUMMARY:Horse Racing:Irish Wire Products Irish EBF Shannon Spray Mares Novi
 ce Hurdle (Grade 3)
END:VEVENT
END:VCALENDAR
