BEGIN:VCALENDAR
VERSION:2.0
PRODID:-//horsealert.local//NONSGML kigkonsult.se iCalcreator 2.10.5//
CALSCALE:GREGORIAN
X-WR-TIMEZONE:Europe/Dublin
BEGIN:VTIMEZONE
TZID:Etc/GMT-1
BEGIN:STANDARD
DTSTART:20010101T000000
TZOFFSETFROM:+0100
TZOFFSETTO:+0100
TZNAME:GMT +01:00
END:STANDARD
END:VTIMEZONE
BEGIN:VEVENT
UID:20260420T034054CEST-4273H8O3TU@horsealert.local
DTSTAMP:20260420T010454Z
CATEGORIES:Horse Alerts
DESCRIPTION:Societe Du Pin Hurdle
DTSTART:20230315T153800
LOCATION:France
SUMMARY:Horse Racing:Societe Du Pin Hurdle
END:VEVENT
END:VCALENDAR
