BEGIN:VCALENDAR
VERSION:2.0
PRODID:-//horsealert.local//NONSGML kigkonsult.se iCalcreator 2.10.5//
CALSCALE:GREGORIAN
X-WR-TIMEZONE:Europe/Dublin
BEGIN:VTIMEZONE
TZID:Etc/GMT-1
BEGIN:STANDARD
DTSTART:20010101T000000
TZOFFSETFROM:+0100
TZOFFSETTO:+0100
TZNAME:GMT +01:00
END:STANDARD
END:VTIMEZONE
BEGIN:VEVENT
UID:20260420T034011CEST-7355IeM7DZ@horsealert.local
DTSTAMP:20260420T010411Z
CATEGORIES:Horse Alerts
DESCRIPTION:Spreadex Sports First Goalscorer Insurance Handicap (Rider Rest
 ricted Race)
DTSTART:20230318T203000
LOCATION:England
SUMMARY:Horse Racing:Spreadex Sports First Goalscorer Insurance Handicap (R
 ider Restricted Race)
END:VEVENT
END:VCALENDAR
