BEGIN:VCALENDAR
VERSION:2.0
PRODID:-//horsealert.local//NONSGML kigkonsult.se iCalcreator 2.10.5//
CALSCALE:GREGORIAN
X-WR-TIMEZONE:Europe/Dublin
BEGIN:VTIMEZONE
TZID:Etc/GMT-1
BEGIN:STANDARD
DTSTART:20010101T000000
TZOFFSETFROM:+0100
TZOFFSETTO:+0100
TZNAME:GMT +01:00
END:STANDARD
END:VTIMEZONE
BEGIN:VEVENT
UID:20260420T034051CEST-0068WGl5LB@horsealert.local
DTSTAMP:20260420T010451Z
CATEGORIES:Horse Alerts
DESCRIPTION:Bob 'Few Scoops' Kerslake's 70th Novices' Limited Handicap Chas
 e (GBB Race)
DTSTART:20230322T142500
LOCATION:England
SUMMARY:Horse Racing:Bob 'Few Scoops' Kerslake's 70th Novices' Limited Hand
 icap Chase (GBB Race)
END:VEVENT
END:VCALENDAR
