BEGIN:VCALENDAR
VERSION:2.0
PRODID:-//horsealert.local//NONSGML kigkonsult.se iCalcreator 2.10.5//
CALSCALE:GREGORIAN
X-WR-TIMEZONE:Europe/Dublin
BEGIN:VTIMEZONE
TZID:Etc/GMT-1
BEGIN:STANDARD
DTSTART:20010101T000000
TZOFFSETFROM:+0100
TZOFFSETTO:+0100
TZNAME:GMT +01:00
END:STANDARD
END:VTIMEZONE
BEGIN:VEVENT
UID:20260420T021253CEST-3623XKPUn7@horsealert.local
DTSTAMP:20260420T000453Z
CATEGORIES:Horse Alerts
DESCRIPTION:Tote Always SP Or Better At Downpatrick Handicap Hurdle (80-109
 )
DTSTART:20230402T145000
LOCATION:Northern Ireland
SUMMARY:Horse Racing:Tote Always SP Or Better At Downpatrick Handicap Hurdl
 e (80-109)
END:VEVENT
END:VCALENDAR
