BEGIN:VCALENDAR
VERSION:2.0
PRODID:-//horsealert.local//NONSGML kigkonsult.se iCalcreator 2.10.5//
CALSCALE:GREGORIAN
X-WR-TIMEZONE:Europe/Dublin
BEGIN:VTIMEZONE
TZID:Etc/GMT-1
BEGIN:STANDARD
DTSTART:20010101T000000
TZOFFSETFROM:+0100
TZOFFSETTO:+0100
TZNAME:GMT +01:00
END:STANDARD
END:VTIMEZONE
BEGIN:VEVENT
UID:20260420T033634CEST-60763z3hX4@horsealert.local
DTSTAMP:20260420T010434Z
CATEGORIES:Horse Alerts
DESCRIPTION:Truespeed Whole Home Wi-Fi Handicap
DTSTART:20230407T163500
LOCATION:England
SUMMARY:Horse Racing:Truespeed Whole Home Wi-Fi Handicap
END:VEVENT
END:VCALENDAR
