BEGIN:VCALENDAR
VERSION:2.0
PRODID:-//horsealert.local//NONSGML kigkonsult.se iCalcreator 2.10.5//
CALSCALE:GREGORIAN
X-WR-TIMEZONE:Europe/Dublin
BEGIN:VTIMEZONE
TZID:Etc/GMT-1
BEGIN:STANDARD
DTSTART:20010101T000000
TZOFFSETFROM:+0100
TZOFFSETTO:+0100
TZNAME:GMT +01:00
END:STANDARD
END:VTIMEZONE
BEGIN:VEVENT
UID:20260420T021210CEST-73274mVGV7@horsealert.local
DTSTAMP:20260420T000410Z
CATEGORIES:Horse Alerts
DESCRIPTION:Welcome To Our New Season EBF Restricted Novice Stakes (GBB Rac
 e) (Div 1)
DTSTART:20230419T134000
LOCATION:England
SUMMARY:Horse Racing:Welcome To Our New Season EBF Restricted Novice Stakes
  (GBB Race) (Div 1)
END:VEVENT
END:VCALENDAR
