BEGIN:VCALENDAR
VERSION:2.0
PRODID:-//horsealert.local//NONSGML kigkonsult.se iCalcreator 2.10.5//
CALSCALE:GREGORIAN
X-WR-TIMEZONE:Europe/Dublin
BEGIN:VTIMEZONE
TZID:Etc/GMT-1
BEGIN:STANDARD
DTSTART:20010101T000000
TZOFFSETFROM:+0100
TZOFFSETTO:+0100
TZNAME:GMT +01:00
END:STANDARD
END:VTIMEZONE
BEGIN:VEVENT
UID:20260420T021203CEST-5389IC2mXC@horsealert.local
DTSTAMP:20260420T000403Z
CATEGORIES:Horse Alerts
DESCRIPTION:Remembering Raceday's At Fontwell With Jan Novices' Handicap Hu
 rdle
DTSTART:20230421T155500
LOCATION:England
SUMMARY:Horse Racing:Remembering Raceday's At Fontwell With Jan Novices' Ha
 ndicap Hurdle
END:VEVENT
END:VCALENDAR
