BEGIN:VCALENDAR
VERSION:2.0
PRODID:-//horsealert.local//NONSGML kigkonsult.se iCalcreator 2.10.5//
CALSCALE:GREGORIAN
X-WR-TIMEZONE:Europe/Dublin
BEGIN:VTIMEZONE
TZID:Etc/GMT-1
BEGIN:STANDARD
DTSTART:20010101T000000
TZOFFSETFROM:+0100
TZOFFSETTO:+0100
TZNAME:GMT +01:00
END:STANDARD
END:VTIMEZONE
BEGIN:VEVENT
UID:20260420T021210CEST-33085S6Hov@horsealert.local
DTSTAMP:20260420T000410Z
CATEGORIES:Horse Alerts
DESCRIPTION:Racing TV Novices' Hurdle (GBB Race)
DTSTART:20230424T165000
LOCATION:England
SUMMARY:Horse Racing:Racing TV Novices' Hurdle (GBB Race)
END:VEVENT
END:VCALENDAR
