BEGIN:VCALENDAR
VERSION:2.0
PRODID:-//horsealert.local//NONSGML kigkonsult.se iCalcreator 2.10.5//
CALSCALE:GREGORIAN
X-WR-TIMEZONE:Europe/Dublin
BEGIN:VTIMEZONE
TZID:Etc/GMT-1
BEGIN:STANDARD
DTSTART:20010101T000000
TZOFFSETFROM:+0100
TZOFFSETTO:+0100
TZNAME:GMT +01:00
END:STANDARD
END:VTIMEZONE
BEGIN:VEVENT
UID:20260420T021053CEST-9944BeK0b1@horsealert.local
DTSTAMP:20260420T000453Z
CATEGORIES:Horse Alerts
DESCRIPTION:World Sports Betting Variety Club Mile (Grade 3)
DTSTART:20230424T150500
LOCATION:South Africa
SUMMARY:Horse Racing:World Sports Betting Variety Club Mile (Grade 3)
END:VEVENT
END:VCALENDAR
