BEGIN:VCALENDAR
VERSION:2.0
PRODID:-//horsealert.local//NONSGML kigkonsult.se iCalcreator 2.10.5//
CALSCALE:GREGORIAN
X-WR-TIMEZONE:Europe/Dublin
BEGIN:VTIMEZONE
TZID:Etc/GMT-1
BEGIN:STANDARD
DTSTART:20010101T000000
TZOFFSETFROM:+0100
TZOFFSETTO:+0100
TZNAME:GMT +01:00
END:STANDARD
END:VTIMEZONE
BEGIN:VEVENT
UID:20260420T021436CEST-3233L6hHkk@horsealert.local
DTSTAMP:20260420T000436Z
CATEGORIES:Horse Alerts
DESCRIPTION:Prix Roland Jaffrelot - Attele
DTSTART:20230511T175200
LOCATION:France
SUMMARY:Horse Racing:Prix Roland Jaffrelot - Attele
END:VEVENT
END:VCALENDAR
