BEGIN:VCALENDAR
VERSION:2.0
PRODID:-//horsealert.local//NONSGML kigkonsult.se iCalcreator 2.10.5//
CALSCALE:GREGORIAN
X-WR-TIMEZONE:Europe/Dublin
BEGIN:VTIMEZONE
TZID:Etc/GMT-1
BEGIN:STANDARD
DTSTART:20010101T000000
TZOFFSETFROM:+0100
TZOFFSETTO:+0100
TZNAME:GMT +01:00
END:STANDARD
END:VTIMEZONE
BEGIN:VEVENT
UID:20260420T010203CEST-0330h7TOOU@horsealert.local
DTSTAMP:20260419T230403Z
CATEGORIES:Horse Alerts
DESCRIPTION:Monkstown Handicap (50-70)
DTSTART:20230519T174500
LOCATION:Eire
SUMMARY:Horse Racing:Monkstown Handicap (50-70)
END:VEVENT
END:VCALENDAR
