BEGIN:VCALENDAR
VERSION:2.0
PRODID:-//horsealert.local//NONSGML kigkonsult.se iCalcreator 2.10.5//
CALSCALE:GREGORIAN
X-WR-TIMEZONE:Europe/Dublin
BEGIN:VTIMEZONE
TZID:Etc/GMT-1
BEGIN:STANDARD
DTSTART:20010101T000000
TZOFFSETFROM:+0100
TZOFFSETTO:+0100
TZNAME:GMT +01:00
END:STANDARD
END:VTIMEZONE
BEGIN:VEVENT
UID:20260420T021432CEST-692346HKJM@horsealert.local
DTSTAMP:20260420T000432Z
CATEGORIES:Horse Alerts
DESCRIPTION:Join Us For Summer In Town Mini Festival Handicap Hurdle (80-95
 ) (Div 1)
DTSTART:20230523T164500
LOCATION:Eire
SUMMARY:Horse Racing:Join Us For Summer In Town Mini Festival Handicap Hurd
 le (80-95) (Div 1)
END:VEVENT
END:VCALENDAR
