BEGIN:VCALENDAR
VERSION:2.0
PRODID:-//horsealert.local//NONSGML kigkonsult.se iCalcreator 2.10.5//
CALSCALE:GREGORIAN
X-WR-TIMEZONE:Europe/Dublin
BEGIN:VTIMEZONE
TZID:Etc/GMT-1
BEGIN:STANDARD
DTSTART:20010101T000000
TZOFFSETFROM:+0100
TZOFFSETTO:+0100
TZNAME:GMT +01:00
END:STANDARD
END:VTIMEZONE
BEGIN:VEVENT
UID:20260420T010116CEST-2146J3TIxG@horsealert.local
DTSTAMP:20260419T230416Z
CATEGORIES:Horse Alerts
DESCRIPTION:Catch Kzn Racing Via Live Streaming On Www.galloptv.co.za Condi
 tional Maiden(maidens With 3 Runs Or More & Nett Rating O
DTSTART:20230531T112500
LOCATION:South Africa
SUMMARY:Horse Racing:Catch Kzn Racing Via Live Streaming On Www.galloptv.co
 .za Conditional Maiden(maidens With 3 Runs Or More & Nett Rating O
END:VEVENT
END:VCALENDAR
