BEGIN:VCALENDAR
VERSION:2.0
PRODID:-//horsealert.local//NONSGML kigkonsult.se iCalcreator 2.10.5//
CALSCALE:GREGORIAN
X-WR-TIMEZONE:Europe/Dublin
BEGIN:VTIMEZONE
TZID:Etc/GMT-1
BEGIN:STANDARD
DTSTART:20010101T000000
TZOFFSETFROM:+0100
TZOFFSETTO:+0100
TZNAME:GMT +01:00
END:STANDARD
END:VTIMEZONE
BEGIN:VEVENT
UID:20260420T010332CEST-0965mvE8ns@horsealert.local
DTSTAMP:20260419T230432Z
CATEGORIES:Horse Alerts
DESCRIPTION:Gowran Park Golf Club Handicap (47-65)
DTSTART:20230605T170700
LOCATION:Eire
SUMMARY:Horse Racing:Gowran Park Golf Club Handicap (47-65)
END:VEVENT
END:VCALENDAR
