BEGIN:VCALENDAR
VERSION:2.0
PRODID:-//horsealert.local//NONSGML kigkonsult.se iCalcreator 2.10.5//
CALSCALE:GREGORIAN
X-WR-TIMEZONE:Europe/Dublin
BEGIN:VTIMEZONE
TZID:Etc/GMT-1
BEGIN:STANDARD
DTSTART:20010101T000000
TZOFFSETFROM:+0100
TZOFFSETTO:+0100
TZNAME:GMT +01:00
END:STANDARD
END:VTIMEZONE
BEGIN:VEVENT
UID:20260419T232723CEST-4035F0Zoi9@horsealert.local
DTSTAMP:20260419T210423Z
CATEGORIES:Horse Alerts
DESCRIPTION:Murphy International Supporting Relay For Life Maiden
DTSTART:20230607T193000
LOCATION:Eire
SUMMARY:Horse Racing:Murphy International Supporting Relay For Life Maiden
END:VEVENT
END:VCALENDAR
