BEGIN:VCALENDAR
VERSION:2.0
PRODID:-//horsealert.local//NONSGML kigkonsult.se iCalcreator 2.10.5//
CALSCALE:GREGORIAN
X-WR-TIMEZONE:Europe/Dublin
BEGIN:VTIMEZONE
TZID:Etc/GMT-1
BEGIN:STANDARD
DTSTART:20010101T000000
TZOFFSETFROM:+0100
TZOFFSETTO:+0100
TZNAME:GMT +01:00
END:STANDARD
END:VTIMEZONE
BEGIN:VEVENT
UID:20260419T232619CEST-9801lIDV0m@horsealert.local
DTSTAMP:20260419T210419Z
CATEGORIES:Horse Alerts
DESCRIPTION:Talk Tidy Marketing Handicap Hurdle
DTSTART:20230607T153500
LOCATION:England
SUMMARY:Horse Racing:Talk Tidy Marketing Handicap Hurdle
END:VEVENT
END:VCALENDAR
