BEGIN:VCALENDAR
VERSION:2.0
PRODID:-//horsealert.local//NONSGML kigkonsult.se iCalcreator 2.10.5//
CALSCALE:GREGORIAN
X-WR-TIMEZONE:Europe/Dublin
BEGIN:VTIMEZONE
TZID:Etc/GMT-1
BEGIN:STANDARD
DTSTART:20010101T000000
TZOFFSETFROM:+0100
TZOFFSETTO:+0100
TZNAME:GMT +01:00
END:STANDARD
END:VTIMEZONE
BEGIN:VEVENT
UID:20260419T232529CEST-3142eCe68N@horsealert.local
DTSTAMP:20260419T210429Z
CATEGORIES:Horse Alerts
DESCRIPTION:Prix Barons Guy Et Jacques De Meynard - Attele
DTSTART:20230607T173800
LOCATION:France
SUMMARY:Horse Racing:Prix Barons Guy Et Jacques De Meynard - Attele
END:VEVENT
END:VCALENDAR
