BEGIN:VCALENDAR
VERSION:2.0
PRODID:-//horsealert.local//NONSGML kigkonsult.se iCalcreator 2.10.5//
CALSCALE:GREGORIAN
X-WR-TIMEZONE:Europe/Dublin
BEGIN:VTIMEZONE
TZID:Etc/GMT-1
BEGIN:STANDARD
DTSTART:20010101T000000
TZOFFSETFROM:+0100
TZOFFSETTO:+0100
TZNAME:GMT +01:00
END:STANDARD
END:VTIMEZONE
BEGIN:VEVENT
UID:20260419T232354CEST-6368jatLLW@horsealert.local
DTSTAMP:20260419T210454Z
CATEGORIES:Horse Alerts
DESCRIPTION:Try Racing TV For Free Now At racingtv.com/freetrial Handicap H
 urdle (80-95)
DTSTART:20230618T164000
LOCATION:Northern Ireland
SUMMARY:Horse Racing:Try Racing TV For Free Now At racingtv.com/freetrial H
 andicap Hurdle (80-95)
END:VEVENT
END:VCALENDAR
