BEGIN:VCALENDAR
VERSION:2.0
PRODID:-//horsealert.local//NONSGML kigkonsult.se iCalcreator 2.10.5//
CALSCALE:GREGORIAN
X-WR-TIMEZONE:Europe/Dublin
BEGIN:VTIMEZONE
TZID:Etc/GMT-1
BEGIN:STANDARD
DTSTART:20010101T000000
TZOFFSETFROM:+0100
TZOFFSETTO:+0100
TZNAME:GMT +01:00
END:STANDARD
END:VTIMEZONE
BEGIN:VEVENT
UID:20260419T232629CEST-6100gr6fF6@horsealert.local
DTSTAMP:20260419T210429Z
CATEGORIES:Horse Alerts
DESCRIPTION:Stablemate By AGMA Cumberland Plate Handicap
DTSTART:20230628T162000
LOCATION:England
SUMMARY:Horse Racing:Stablemate By AGMA Cumberland Plate Handicap
END:VEVENT
END:VCALENDAR
