BEGIN:VCALENDAR
VERSION:2.0
PRODID:-//horsealert.local//NONSGML kigkonsult.se iCalcreator 2.10.5//
CALSCALE:GREGORIAN
X-WR-TIMEZONE:Europe/Dublin
BEGIN:VTIMEZONE
TZID:Etc/GMT-1
BEGIN:STANDARD
DTSTART:20010101T000000
TZOFFSETFROM:+0100
TZOFFSETTO:+0100
TZNAME:GMT +01:00
END:STANDARD
END:VTIMEZONE
BEGIN:VEVENT
UID:20260420T010328CEST-3625OURXrx@horsealert.local
DTSTAMP:20260419T230428Z
CATEGORIES:Horse Alerts
DESCRIPTION:Manoir Des Gens D'Armes Maiden Stakes
DTSTART:20230630T142500
LOCATION:France
SUMMARY:Horse Racing:Manoir Des Gens D'Armes Maiden Stakes
END:VEVENT
END:VCALENDAR
